BEGIN:VCALENDAR
VERSION:2.0
PRODID:-//jEvents 2.0 for Joomla//EN
CALSCALE:GREGORIAN
METHOD:PUBLISH
BEGIN:VTIMEZONE
TZID:Europe/Vienna
END:VTIMEZONE
BEGIN:VEVENT
UID:50dce58247bf513666cb453e5f6d4364
CATEGORIES:DEFAULT
SUMMARY:Ordentliche Generalversammlung des SV Mödling
DESCRIPTION;ENCODING=QUOTED-PRINTABLE:<div style="font-family: 'Helvetica Neue', Helvetica, Arial, sans-serif; fo
 nt-size: 13px;"><span style="color: #0000ff;"><strong><span style="font-siz
 e: 14px;"><span style="font-family: tahoma, geneva, sans-serif;"><span data
 -scayt_word="Einladung" data-scaytid="44">Einladung</span> <span data-scayt
 _word="zur" data-scaytid="2">zur</span> <span data-scayt_word="ordentlichen
 " data-scaytid="3">ordentlichen</span> <span data-scayt_word="Generalversam
 mlung" data-scaytid="4">Generalversammlung</span> </span></span></strong></
 span></div><div style="font-family: 'Helvetica Neue', Helvetica, Arial, san
 s-serif; font-size: 13px;"><span style="color: #0000ff;"><strong><span styl
 e="font-size: 14px;"><span style="font-family: tahoma, geneva, sans-serif;"
 >am <span data-scayt_word="Montag" data-scaytid="5">Dienstag</span>, den 16
 . November 2021 um 19 Uhr<br /><span data-scayt_word="im" data-scaytid="7">
 im</span> <span data-scayt_word="Mautwirtshaus" data-scaytid="8">Mautwirtsh
 aus</span> <span data-scayt_word="Mödling" data-scaytid="9">Mödling</span>,
  <span data-scayt_word="Kaiserin" data-scaytid="10">Kaiserin</span> <span d
 ata-scayt_word="Elisabethstraße" data-scaytid="11">Elisabethstraße</span> 2
 2</span></span></strong></span></div>
DTSTAMP:20260422T140943Z
DTSTART;TZID=Europe/Vienna:20211116T190000
SEQUENCE:0
TRANSP:OPAQUE
END:VEVENT
END:VCALENDAR