BEGIN:VCALENDAR
VERSION:2.0
PRODID:-//jEvents 2.0 for Joomla//EN
CALSCALE:GREGORIAN
METHOD:PUBLISH
BEGIN:VTIMEZONE
TZID:Europe/Vienna
END:VTIMEZONE
BEGIN:VEVENT
UID:027bd6b4f31d1d07d70534f98c13489d
CATEGORIES:DEFAULT
SUMMARY:B Liga: Mödling - tschaturanga
DESCRIPTION;ENCODING=QUOTED-PRINTABLE:\n\nBG Mödling, Untere Bachgasse 8\n
DTSTAMP:20260422T140934Z
DTSTART;TZID=Europe/Vienna:20211106T150000
DTEND;TZID=Europe/Vienna:20211106T210000
SEQUENCE:0
TRANSP:OPAQUE
END:VEVENT
END:VCALENDAR