BEGIN:VCALENDAR
VERSION:2.0
PRODID:-//jEvents 2.0 for Joomla//EN
CALSCALE:GREGORIAN
METHOD:PUBLISH
BEGIN:VTIMEZONE
TZID:Europe/Vienna
END:VTIMEZONE
BEGIN:VEVENT
UID:bbb6433464807a943d0c44e0e4290a00
CATEGORIES:DEFAULT
SUMMARY:1.Klasse Nord: Mödling - Austria
DESCRIPTION;ENCODING=QUOTED-PRINTABLE:\n\nHeimspiel im BG Mödling Untere Bachgasse 8\n
DTSTAMP:20260422T140935Z
DTSTART;TZID=Europe/Vienna:20211030T150000
DTEND;TZID=Europe/Vienna:20211030T200000
SEQUENCE:0
TRANSP:OPAQUE
END:VEVENT
END:VCALENDAR