BEGIN:VCALENDAR
VERSION:2.0
PRODID:-//jEvents 2.0 for Joomla//EN
CALSCALE:GREGORIAN
METHOD:PUBLISH
BEGIN:VTIMEZONE
TZID:Europe/Vienna
END:VTIMEZONE
BEGIN:VEVENT
UID:a023c4b0964d730e921f1e9c45021b44
CATEGORIES:DEFAULT
SUMMARY:B Liga: Favoriten - Mödling
DESCRIPTION;ENCODING=QUOTED-PRINTABLE:<p>auswärt Cafe Anningerblick, 10. Dr. Eberle Gasse 3</p>
DTSTAMP:20260422T121132Z
DTSTART;TZID=Europe/Vienna:20211023T150000
DTEND;TZID=Europe/Vienna:20211023T200000
SEQUENCE:0
TRANSP:OPAQUE
END:VEVENT
END:VCALENDAR