BEGIN:VCALENDAR
VERSION:2.0
PRODID:-//jEvents 2.0 for Joomla//EN
CALSCALE:GREGORIAN
METHOD:PUBLISH
BEGIN:VTIMEZONE
TZID:Europe/Vienna
END:VTIMEZONE
BEGIN:VEVENT
UID:d7be6c22d0e0ca160b643607b2623f01
CATEGORIES:DEFAULT
SUMMARY:1.Klasse Nord: Auhof - Mödling
DESCRIPTION;ENCODING=QUOTED-PRINTABLE:\n\nauswärts im Hotel Rainers, 10. Gudrunstrasse 184\n
DTSTAMP:20260422T121027Z
DTSTART;TZID=Europe/Vienna:20211016T150000
DTEND;TZID=Europe/Vienna:20211016T200000
SEQUENCE:0
TRANSP:OPAQUE
END:VEVENT
END:VCALENDAR