BEGIN:VCALENDAR
VERSION:2.0
PRODID:-//jEvents 2.0 for Joomla//EN
CALSCALE:GREGORIAN
METHOD:PUBLISH
BEGIN:VTIMEZONE
TZID:Europe/Vienna
END:VTIMEZONE
BEGIN:VEVENT
UID:071eead2890703e86b52ff65d757b2cc
CATEGORIES:DEFAULT
SUMMARY:2.Klasse Nord: Mödling - Amateure
DESCRIPTION;ENCODING=QUOTED-PRINTABLE:<p>1. Runde Heimspiel im BG Mödling, Untere Bachgasse 8</p>
DTSTAMP:20260422T121105Z
DTSTART;TZID=Europe/Vienna:20211009T150000
DTEND;TZID=Europe/Vienna:20211009T200000
SEQUENCE:0
TRANSP:OPAQUE
END:VEVENT
END:VCALENDAR