BEGIN:VCALENDAR
VERSION:2.0
PRODID:-//jEvents 2.0 for Joomla//EN
CALSCALE:GREGORIAN
METHOD:PUBLISH
BEGIN:VTIMEZONE
TZID:Europe/Vienna
END:VTIMEZONE
BEGIN:VEVENT
UID:c5729f1f7dff9ba55d669bd3170e1bf4
CATEGORIES:DEFAULT
SUMMARY:B Liga: Mödling - Schmelz
DESCRIPTION;ENCODING=QUOTED-PRINTABLE:\n\n1. Runde Heimspiel im BG Mödling, Untere Bachgasse 8\n
DTSTAMP:20260422T121047Z
DTSTART;TZID=Europe/Vienna:20211009T150000
DTEND;TZID=Europe/Vienna:20211009T200000
SEQUENCE:0
TRANSP:OPAQUE
END:VEVENT
END:VCALENDAR