BEGIN:VCALENDAR
VERSION:2.0
PRODID:-//jEvents 2.0 for Joomla//EN
CALSCALE:GREGORIAN
METHOD:PUBLISH
BEGIN:VTIMEZONE
TZID:Europe/Vienna
END:VTIMEZONE
BEGIN:VEVENT
UID:a0d717ccea62a1dbe403d01b0c20b8b3
CATEGORIES:DEFAULT
SUMMARY:Schach beim Mödlinger Tag des Sports
DESCRIPTION;ENCODING=QUOTED-PRINTABLE:<p>im Museumspark, Zutritt mit 3 G Nachweis.</p><p>Wir sind mit einem eigen
 en Stand dabei!</p><p><a href="https://www.moedling.at/Freizeit/Sport/Tag_d
 es_Sports">Stadtgemeinde Mödling online - Ihr offizielles Infoweb der Stadt
 ! - Home - Freizeit - Sport - Tag des Sports (moedling.at)</a></p>
DTSTAMP:20260422T121131Z
DTSTART;TZID=Europe/Vienna:20210904T100000
DTEND;TZID=Europe/Vienna:20210904T130000
SEQUENCE:0
TRANSP:OPAQUE
END:VEVENT
END:VCALENDAR