BEGIN:VCALENDAR
VERSION:2.0
PRODID:-//jEvents 2.0 for Joomla//EN
CALSCALE:GREGORIAN
METHOD:PUBLISH
BEGIN:VTIMEZONE
TZID:Europe/Vienna
END:VTIMEZONE
BEGIN:VEVENT
UID:a8c6eb354d4df2c3ea7ae4a0b31ac078
CATEGORIES:DEFAULT
SUMMARY:Schach beim Mödlinger Ferienspiel
DESCRIPTION;ENCODING=QUOTED-PRINTABLE:\n\nFerienspielbüro: VS Harald Lowatschek, Lerchengasse 35Eingang über die 
 Jakob Thoma-Straße\n
DTSTAMP:20260422T121047Z
DTSTART;TZID=Europe/Vienna:20210802T133000
DTEND;TZID=Europe/Vienna:20210802T150000
SEQUENCE:0
TRANSP:OPAQUE
END:VEVENT
END:VCALENDAR