BEGIN:VCALENDAR
VERSION:2.0
PRODID:-//jEvents 2.0 for Joomla//EN
CALSCALE:GREGORIAN
METHOD:PUBLISH
BEGIN:VTIMEZONE
TZID:Europe/Vienna
END:VTIMEZONE
BEGIN:VEVENT
UID:ed0ad0489c2cefd0cc45fabaf6715313
CATEGORIES:DEFAULT
SUMMARY:Schach beim Mödlinger Ferienspiel
DESCRIPTION;ENCODING=QUOTED-PRINTABLE:<p><span style="color: #000000; font-family: Lato, sans-serif; font-size: 1
 8.0018px;">Ferienspielbüro: VS Harald Lowatschek, Lerchengasse 35<br />Eing
 ang über die Jakob Thoma-Straße</span></p>
DTSTAMP:20260422T121131Z
DTSTART;TZID=Europe/Vienna:20210712T133000
DTEND;TZID=Europe/Vienna:20210712T150000
SEQUENCE:0
TRANSP:OPAQUE
END:VEVENT
END:VCALENDAR