BEGIN:VCALENDAR
VERSION:2.0
PRODID:-//jEvents 2.0 for Joomla//EN
CALSCALE:GREGORIAN
METHOD:PUBLISH
BEGIN:VTIMEZONE
TZID:Europe/Vienna
END:VTIMEZONE
BEGIN:VEVENT
UID:05e5c0f62b0502772576168767272dfd
CATEGORIES:DEFAULT
SUMMARY:Mödlinger Neujahrsblitzturnier 
DESCRIPTION;ENCODING=QUOTED-PRINTABLE:<p>diesmal online auf lichess.org, 5 min pro Partie, Arena Modus<br />Sachp
 reise für die ersten 3</p>
DTSTAMP:20260422T121105Z
DTSTART;TZID=Europe/Vienna:20210101T191500
DTEND;TZID=Europe/Vienna:20210101T204500
SEQUENCE:0
TRANSP:OPAQUE
END:VEVENT
END:VCALENDAR