BEGIN:VCALENDAR
VERSION:2.0
PRODID:-//jEvents 2.0 for Joomla//EN
CALSCALE:GREGORIAN
METHOD:PUBLISH
BEGIN:VTIMEZONE
TZID:Europe/Vienna
END:VTIMEZONE
BEGIN:VEVENT
UID:655d4e31a5b5917c5dfbe72a837c07fd
CATEGORIES:DEFAULT
SUMMARY:Generalversammlung
DESCRIPTION;ENCODING=QUOTED-PRINTABLE:<div style="color: #000000; font-family: verdana; font-size: 12px;">Einladu
 ng zur ordentlichen Generalversammlung am Montag, den 17. November 2025 um 
 19 Uhr<br />im Mautwirtshaus Mödling, Kaiserin Elisabethstraße 22<br /> <br
  />Feststellung  der Beschlussfähigkeit: <br />Sind um 19 Uhr weniger als d
 ie Hälfte aller Mitglieder anwesend, so findet um 19 Uhr 30 eine beschlussf
 ähige Generalversammlung mit gleicher Tagesordnung statt.</div><div style="
 color: #000000; font-family: verdana; font-size: 12px;">             Begrüß
 ung und Bericht unseres Obmanns Gerhard Schulz<br />                Bericht
  des Kassiers und der Spielleiter über die vergangenen Saison<br />        
         Bericht der Kassaprüfer und Entlastung des Vorstandes<br />        
         Neuwahl des Vorstandes und der Kassaprüfer<br />                Ant
 räge und Allfälliges</div><div style="color: #000000; font-family: verdana;
  font-size: 12px;">Anträge sind bis spätestens Freitag, 14.Nov an mich zu s
 enden.</div><div style="color: #000000; font-family: verdana; font-size: 12
 px;">Günter Rier <br />0664 4904822</div>
DTSTAMP:20260421T200631Z
DTSTART;TZID=Europe/Vienna:20251117T190000
DTEND;TZID=Europe/Vienna:20251117T210000
SEQUENCE:0
TRANSP:OPAQUE
END:VEVENT
END:VCALENDAR