BEGIN:VCALENDAR
VERSION:2.0
PRODID:-//jEvents 2.0 for Joomla//EN
CALSCALE:GREGORIAN
METHOD:PUBLISH
BEGIN:VTIMEZONE
TZID:Europe/Vienna
END:VTIMEZONE
BEGIN:VEVENT
UID:e9a832097b77c80b32d41f73c0bdaebf
CATEGORIES:DEFAULT
SUMMARY:A Liga: Schmelz - Mödling
DESCRIPTION;ENCODING=QUOTED-PRINTABLE:\n\n15.Oeverseestr 1\n
DTSTAMP:20260421T235352Z
DTSTART;TZID=Europe/Vienna:20250222T150000
DTEND;TZID=Europe/Vienna:20250222T210000
SEQUENCE:0
TRANSP:OPAQUE
END:VEVENT
END:VCALENDAR