BEGIN:VCALENDAR
VERSION:2.0
PRODID:-//jEvents 2.0 for Joomla//EN
CALSCALE:GREGORIAN
METHOD:PUBLISH
BEGIN:VTIMEZONE
TZID:Europe/Vienna
END:VTIMEZONE
BEGIN:VEVENT
UID:75c01e941d3c475be9ab846e59555119
CATEGORIES:DEFAULT
SUMMARY:B Liga: tschaturanga - Mödling
DESCRIPTION;ENCODING=QUOTED-PRINTABLE:\n\nWSV Haus des Schachsports, 1020 Wien, Spielmannplatz 1\n
DTSTAMP:20260421T200023Z
DTSTART;TZID=Europe/Vienna:20250215T150000
DTEND;TZID=Europe/Vienna:20250215T210000
SEQUENCE:0
TRANSP:OPAQUE
END:VEVENT
END:VCALENDAR