BEGIN:VCALENDAR
VERSION:2.0
PRODID:-//jEvents 2.0 for Joomla//EN
CALSCALE:GREGORIAN
METHOD:PUBLISH
BEGIN:VTIMEZONE
TZID:Europe/Vienna
END:VTIMEZONE
BEGIN:VEVENT
UID:7f53127949aee294df1660c1a2f232c2
CATEGORIES:DEFAULT
SUMMARY:1.Klasse: Mödling - Donaustadt
DESCRIPTION;ENCODING=QUOTED-PRINTABLE:<p><strong>Heimspiel im BG Mödling, Untere Bachgasse 8</strong></p>
DTSTAMP:20260422T012228Z
DTSTART;TZID=Europe/Vienna:20250208T150000
DTEND;TZID=Europe/Vienna:20250208T210000
SEQUENCE:0
TRANSP:OPAQUE
END:VEVENT
END:VCALENDAR