BEGIN:VCALENDAR
VERSION:2.0
PRODID:-//jEvents 2.0 for Joomla//EN
CALSCALE:GREGORIAN
METHOD:PUBLISH
BEGIN:VTIMEZONE
TZID:Europe/Vienna
END:VTIMEZONE
BEGIN:VEVENT
UID:3f3605da8fee562bef1ac2cffb479255
CATEGORIES:DEFAULT
SUMMARY:A Liga Mödling - Arberia
DESCRIPTION;ENCODING=QUOTED-PRINTABLE:<p><strong>Heimspiel im BG Mödling, Untere Bachgasse 8</strong></p>
DTSTAMP:20260421T200456Z
DTSTART;TZID=Europe/Vienna:20250208T150000
DTEND;TZID=Europe/Vienna:20250208T210000
SEQUENCE:0
TRANSP:OPAQUE
END:VEVENT
END:VCALENDAR