BEGIN:VCALENDAR
VERSION:2.0
PRODID:-//jEvents 2.0 for Joomla//EN
CALSCALE:GREGORIAN
METHOD:PUBLISH
BEGIN:VTIMEZONE
TZID:Europe/Vienna
END:VTIMEZONE
BEGIN:VEVENT
UID:7ee9d1bc4c69de3709887c666034823f
CATEGORIES:DEFAULT
SUMMARY:A Liga Donaustadt - Mödling
DESCRIPTION;ENCODING=QUOTED-PRINTABLE:\n\nTV Kagran 22.Anton Sattler Gasse 92-96\n
DTSTAMP:20260421T200011Z
DTSTART;TZID=Europe/Vienna:20250118T150000
DTEND;TZID=Europe/Vienna:20250118T210000
SEQUENCE:0
TRANSP:OPAQUE
END:VEVENT
END:VCALENDAR