BEGIN:VCALENDAR
VERSION:2.0
PRODID:-//jEvents 2.0 for Joomla//EN
CALSCALE:GREGORIAN
METHOD:PUBLISH
BEGIN:VTIMEZONE
TZID:Europe/Vienna
END:VTIMEZONE
BEGIN:VEVENT
UID:425937b1ddde75390b73ab173973715a
CATEGORIES:DEFAULT
SUMMARY:B Liga: Hietzing - Mödling
DESCRIPTION;ENCODING=QUOTED-PRINTABLE:\n\nauswärts im Haus des Schachsports beim Wiener Happelstadion\n
DTSTAMP:20260421T235228Z
DTSTART;TZID=Europe/Vienna:20250111T150000
DTEND;TZID=Europe/Vienna:20250111T210000
SEQUENCE:0
TRANSP:OPAQUE
END:VEVENT
END:VCALENDAR