BEGIN:VCALENDAR
VERSION:2.0
PRODID:-//jEvents 2.0 for Joomla//EN
CALSCALE:GREGORIAN
METHOD:PUBLISH
BEGIN:VTIMEZONE
TZID:Europe/Vienna
END:VTIMEZONE
BEGIN:VEVENT
UID:c5617dd9b3c522dcecedec98e4dbabc6
CATEGORIES:DEFAULT
SUMMARY:Neujahrsblitzturnier
DESCRIPTION;ENCODING=QUOTED-PRINTABLE:<p>im Mautwirtshaus</p><div style="color: #000000; font-family: verdana; fo
 nt-size: 12px;">Bedenkzeit: 5 min pro Partie. <br />Jeder Teilnehmer bringt
  wie gewohnt einen kleinen Sachpreis mit.</div><div style="color: #000000; 
 font-family: verdana; font-size: 12px;">Voranmeldungen per Email sind erwün
 scht.</div>
DTSTAMP:20260421T200543Z
DTSTART;TZID=Europe/Vienna:20250106T191500
DTEND;TZID=Europe/Vienna:20250106T221500
SEQUENCE:0
TRANSP:OPAQUE
END:VEVENT
END:VCALENDAR