BEGIN:VCALENDAR
VERSION:2.0
PRODID:-//jEvents 2.0 for Joomla//EN
CALSCALE:GREGORIAN
METHOD:PUBLISH
BEGIN:VTIMEZONE
TZID:Europe/Vienna
END:VTIMEZONE
BEGIN:VEVENT
UID:06aca6ea09d734b398acccbb35bf2e01
CATEGORIES:DEFAULT
SUMMARY:10.Mödlinger Aktivschachturnier für Kinder bis 12
DESCRIPTION;ENCODING=QUOTED-PRINTABLE:\n\nSpielort: BG Mödling, Untere Bachgasse 8\n\n\nDetails siehe Terminkalen
 der ÖSB, wo man die Ausschreibung als pdf downloaden kann.\nAnmeldung an:  
 Diese E-Mail-Adresse ist vor Spambots geschützt! Zur Anzeige muss JavaScrip
 t eingeschaltet sein!
				document.getElementById('cloakcf01b28d9f0ebe16236
 18914b4f0cd92').innerHTML = '';
				var prefix = '&#109;a' + 'i&#108;' + '&
 #116;o';
				var path = 'hr' + 'ef' + '=';
				var addycf01b28d9f0ebe162361
 8914b4f0cd92 = 'g&#117;&#101;nt&#101;r.r&#105;&#101;r' + '&#64;';
				addyc
 f01b28d9f0ebe1623618914b4f0cd92 = addycf01b28d9f0ebe1623618914b4f0cd92 + 'g
 mx' + '&#46;' + '&#97;t';
				var addy_textcf01b28d9f0ebe1623618914b4f0cd92
  = 'g&#117;&#101;nt&#101;r.r&#105;&#101;r' + '&#64;' + 'gmx' + '&#46;' + '&
 #97;t';document.getElementById('cloakcf01b28d9f0ebe1623618914b4f0cd92').inn
 erHTML += ''+addy_textcf01b28d9f0ebe1623618914b4f0cd92+'';
		\n\n\nTermine 
 - Österreichischer Schachbund (chess.at)\n
DTSTAMP:20260422T085156Z
DTSTART;TZID=Europe/Vienna:20230903T140000
DTEND;TZID=Europe/Vienna:20230903T170000
SEQUENCE:0
TRANSP:OPAQUE
END:VEVENT
END:VCALENDAR