BEGIN:VCALENDAR
VERSION:2.0
PRODID:-//jEvents 2.0 for Joomla//EN
CALSCALE:GREGORIAN
METHOD:PUBLISH
BEGIN:VTIMEZONE
TZID:Europe/Vienna
END:VTIMEZONE
BEGIN:VEVENT
UID:10f38c34e8653ef7fa16c56e8f448257
CATEGORIES:DEFAULT
SUMMARY:1.Klasse Süd: Floridsdorf - Mödling
DESCRIPTION;ENCODING=QUOTED-PRINTABLE:<p>auswärts im Haus des Schachsports, 1020 Wien, Marathonweg 14</p>
DTSTAMP:20260422T012227Z
DTSTART;TZID=Europe/Vienna:20201031T150000
SEQUENCE:0
TRANSP:OPAQUE
END:VEVENT
END:VCALENDAR