BEGIN:VCALENDAR
VERSION:2.0
PRODID:-//jEvents 2.0 for Joomla//EN
CALSCALE:GREGORIAN
METHOD:PUBLISH
BEGIN:VTIMEZONE
TZID:Europe/Vienna
END:VTIMEZONE
BEGIN:VEVENT
UID:dafdb6f0c6b04591d30f242c6502f9d4
CATEGORIES:DEFAULT
SUMMARY:2.Klasse Nord: Favoriten - Mödling
DESCRIPTION;ENCODING=QUOTED-PRINTABLE:<p>auswärts im</p><p><span style="font-size: 12.16px;">Cafe Anningerblick, 
 10., Dr. Eberleg. 3</span></p>
DTSTAMP:20260422T012310Z
DTSTART;TZID=Europe/Vienna:20201010T150000
SEQUENCE:0
TRANSP:OPAQUE
END:VEVENT
END:VCALENDAR