BEGIN:VCALENDAR
VERSION:2.0
PRODID:-//jEvents 2.0 for Joomla//EN
CALSCALE:GREGORIAN
METHOD:PUBLISH
BEGIN:VTIMEZONE
TZID:Europe/Vienna
END:VTIMEZONE
BEGIN:VEVENT
UID:edf3bd5f08b4f9193685c5c7ef3653be
CATEGORIES:DEFAULT
SUMMARY:B Liga Süd: Währing - Mödling
DESCRIPTION;ENCODING=QUOTED-PRINTABLE:\n\nauswärts im\n\n\nCafe‐Restaurant Winter, 9. Alser Straße 30\n
DTSTAMP:20260422T012159Z
DTSTART;TZID=Europe/Vienna:20201010T150000
SEQUENCE:0
TRANSP:OPAQUE
END:VEVENT
END:VCALENDAR