BEGIN:VCALENDAR
VERSION:2.0
PRODID:-//jEvents 2.0 for Joomla//EN
CALSCALE:GREGORIAN
METHOD:PUBLISH
BEGIN:VTIMEZONE
TZID:Europe/Vienna
END:VTIMEZONE
BEGIN:VEVENT
UID:f937f89696cec92b666d99102d5d8024
CATEGORIES:Meisterschaftstermine
SUMMARY:B Liga Süd: Mödling - Hietzing
DESCRIPTION;ENCODING=QUOTED-PRINTABLE:<p>1.Runde <br />Heimspiel im BG Mödling, Untere Bachgasse 8</p>
DTSTAMP:20260421T214645Z
DTSTART;TZID=Europe/Vienna:20200926T150000
SEQUENCE:0
TRANSP:OPAQUE
END:VEVENT
END:VCALENDAR