BEGIN:VCALENDAR
VERSION:2.0
PRODID:-//jEvents 2.0 for Joomla//EN
CALSCALE:GREGORIAN
METHOD:PUBLISH
BEGIN:VTIMEZONE
TZID:Europe/Vienna
END:VTIMEZONE
BEGIN:VEVENT
UID:c2d5a7b171498b5bf42f8a23b3feea19
CATEGORIES:DEFAULT
SUMMARY:Mödlinger Ferienspiel für Kinder von 6 - 15 J.
DESCRIPTION;ENCODING=QUOTED-PRINTABLE:<p>im FERIENSPIELBÜRO</p><p>Sportvolksschule Harald Lowatschek, Eingang Jak
 ob Thoma-Straße</p>
DTSTAMP:20260422T012228Z
DTSTART;TZID=Europe/Vienna:20200803T133000
DTEND;TZID=Europe/Vienna:20200803T150000
SEQUENCE:0
TRANSP:OPAQUE
END:VEVENT
END:VCALENDAR