BEGIN:VCALENDAR
VERSION:2.0
PRODID:-//jEvents 2.0 for Joomla//EN
CALSCALE:GREGORIAN
METHOD:PUBLISH
BEGIN:VTIMEZONE
TZID:Europe/Vienna
END:VTIMEZONE
BEGIN:VEVENT
UID:6ff0dd91c3b7c0f862d5f0e01d873aaf
CATEGORIES:DEFAULT
SUMMARY:2. Mannschaftsvergleichkampf Mödling - Offenbach
DESCRIPTION;ENCODING=QUOTED-PRINTABLE:<p>online auf lichess.org</p><p> </p>
DTSTAMP:20260422T012228Z
DTSTART;TZID=Europe/Vienna:20200519T193000
DTEND;TZID=Europe/Vienna:20200519T210000
SEQUENCE:0
TRANSP:OPAQUE
END:VEVENT
END:VCALENDAR