BEGIN:VCALENDAR
VERSION:2.0
PRODID:-//jEvents 2.0 for Joomla//EN
CALSCALE:GREGORIAN
METHOD:PUBLISH
BEGIN:VTIMEZONE
TZID:Europe/Vienna
END:VTIMEZONE
BEGIN:VEVENT
UID:cde3e08fdd500ba2588a6beebbb1348f
CATEGORIES:DEFAULT
SUMMARY:4. Mödlinger Online-Blitzturnier auf lichess.org
DESCRIPTION;ENCODING=QUOTED-PRINTABLE:<p>Blitzturnier mit 5 min Bedenkzeit</p>
DTSTAMP:20260422T010801Z
DTSTART;TZID=Europe/Vienna:20200428T190000
DTEND;TZID=Europe/Vienna:20200428T203000
SEQUENCE:0
TRANSP:OPAQUE
END:VEVENT
END:VCALENDAR