BEGIN:VCALENDAR
VERSION:2.0
PRODID:-//jEvents 2.0 for Joomla//EN
CALSCALE:GREGORIAN
METHOD:PUBLISH
BEGIN:VTIMEZONE
TZID:Europe/Vienna
END:VTIMEZONE
BEGIN:VEVENT
UID:b65a81f7e3ea0ebbf2b20aafb3c87a8d
CATEGORIES:DEFAULT
SUMMARY:2. Mödlinger Online Blitzturnier
DESCRIPTION;ENCODING=QUOTED-PRINTABLE:\n\nlichess.org\n
DTSTAMP:20260422T010652Z
DTSTART;TZID=Europe/Vienna:20200407T190000
DTEND;TZID=Europe/Vienna:20200407T200000
SEQUENCE:0
TRANSP:OPAQUE
END:VEVENT
END:VCALENDAR