BEGIN:VCALENDAR
VERSION:2.0
PRODID:-//jEvents 2.0 for Joomla//EN
CALSCALE:GREGORIAN
METHOD:PUBLISH
BEGIN:VTIMEZONE
TZID:Europe/Vienna
END:VTIMEZONE
BEGIN:VEVENT
UID:1b90d0a521837e963fe217a8dbe5f90e
CATEGORIES:DEFAULT
SUMMARY:A Liga Mödling - Währing
DESCRIPTION;ENCODING=QUOTED-PRINTABLE:<p>BG Mödling, Untere Bachgasse 8</p>
DTSTAMP:20260421T232026Z
DTSTART;TZID=Europe/Vienna:20200229T150000
DTEND;TZID=Europe/Vienna:20200229T210000
SEQUENCE:0
TRANSP:OPAQUE
END:VEVENT
END:VCALENDAR