BEGIN:VCALENDAR
VERSION:2.0
PRODID:-//jEvents 2.0 for Joomla//EN
CALSCALE:GREGORIAN
METHOD:PUBLISH
BEGIN:VTIMEZONE
TZID:Europe/Vienna
END:VTIMEZONE
BEGIN:VEVENT
UID:06e8e85af8dc4c34323a703d081b2a04
CATEGORIES:DEFAULT
SUMMARY:B Liga Aljechin/Donau . Mödling
DESCRIPTION;ENCODING=QUOTED-PRINTABLE:<p><span style="font-family: 'Helvetica Neue', Helvetica, Arial, sans-serif
 ; font-size: 13px; background-color: #f7f7f7;">WSV Haus des Schachsports, 1
 020 Wien, Marathonweg 14</span></p>
DTSTAMP:20260421T231923Z
DTSTART;TZID=Europe/Vienna:20200222T150000
SEQUENCE:0
TRANSP:OPAQUE
END:VEVENT
END:VCALENDAR