BEGIN:VCALENDAR
VERSION:2.0
PRODID:-//jEvents 2.0 for Joomla//EN
CALSCALE:GREGORIAN
METHOD:PUBLISH
BEGIN:VTIMEZONE
TZID:Europe/Vienna
END:VTIMEZONE
BEGIN:VEVENT
UID:573f8eb7b6ba8f073793cbf2e872a2af
CATEGORIES:DEFAULT
SUMMARY:1.Klasse Süd Favoriten - Mödling
DESCRIPTION;ENCODING=QUOTED-PRINTABLE:\n\nCafe Anningerblick, 1100 Wie, Dr. Eberle Gasse 3\n
DTSTAMP:20260421T231729Z
DTSTART;TZID=Europe/Vienna:20200215T150000
SEQUENCE:0
TRANSP:OPAQUE
END:VEVENT
END:VCALENDAR