BEGIN:VCALENDAR
VERSION:2.0
PRODID:-//jEvents 2.0 for Joomla//EN
CALSCALE:GREGORIAN
METHOD:PUBLISH
BEGIN:VTIMEZONE
TZID:Europe/Vienna
END:VTIMEZONE
BEGIN:VEVENT
UID:f2336a0bde37ae1550fdeaadef872385
CATEGORIES:DEFAULT
SUMMARY:A Liga Donaustadt  - Mödling
DESCRIPTION;ENCODING=QUOTED-PRINTABLE:\n\nTV Kagran, 1220 Wien, Anton Sattler Gasse 92-96\n
DTSTAMP:20260421T231821Z
DTSTART;TZID=Europe/Vienna:20200215T150000
SEQUENCE:0
TRANSP:OPAQUE
END:VEVENT
END:VCALENDAR