BEGIN:VCALENDAR
VERSION:2.0
PRODID:-//jEvents 2.0 for Joomla//EN
CALSCALE:GREGORIAN
METHOD:PUBLISH
BEGIN:VTIMEZONE
TZID:Europe/Vienna
END:VTIMEZONE
BEGIN:VEVENT
UID:e75c59e772b546dae90ce64ee57cee16
CATEGORIES:DEFAULT
SUMMARY:Wiener Kinderliga Oberes Playoff 1.+2.R
DESCRIPTION;ENCODING=QUOTED-PRINTABLE:\n\nWSV Haus des Schachsports, 1020 Wien Marathonweg 14\n
DTSTAMP:20260421T231730Z
DTSTART;TZID=Europe/Vienna:20200126T140000
DTEND;TZID=Europe/Vienna:20200126T180000
SEQUENCE:0
TRANSP:OPAQUE
END:VEVENT
END:VCALENDAR