BEGIN:VCALENDAR
VERSION:2.0
PRODID:-//jEvents 2.0 for Joomla//EN
CALSCALE:GREGORIAN
METHOD:PUBLISH
BEGIN:VTIMEZONE
TZID:Europe/Vienna
END:VTIMEZONE
BEGIN:VEVENT
UID:77f926fddb8e9f7304f9b027d682b1c3
CATEGORIES:DEFAULT
SUMMARY:B Liga Mödling - Favoriten
DESCRIPTION;ENCODING=QUOTED-PRINTABLE:<p><strong>Heimspiel im Mautwirtshaus,</strong></p><p><strong>2340 Mödling,
  Kaiserin Elisabeth Strasse 22</strong></p>
DTSTAMP:20260421T232027Z
DTSTART;TZID=Europe/Vienna:20200125T150000
SEQUENCE:0
TRANSP:OPAQUE
END:VEVENT
END:VCALENDAR