BEGIN:VCALENDAR
VERSION:2.0
PRODID:-//jEvents 2.0 for Joomla//EN
CALSCALE:GREGORIAN
METHOD:PUBLISH
BEGIN:VTIMEZONE
TZID:Europe/Vienna
END:VTIMEZONE
BEGIN:VEVENT
UID:2ad030981cd7055c1f778fc54de98759
CATEGORIES:Meisterschaftstermine
SUMMARY:B Liga Austria - Mödling
DESCRIPTION;ENCODING=QUOTED-PRINTABLE:\n\nauswärts im Cafe Frey, 1040 Wien, Favoritenstrasse 44\n
DTSTAMP:20260421T231729Z
DTSTART;TZID=Europe/Vienna:20200111T150000
SEQUENCE:0
TRANSP:OPAQUE
END:VEVENT
END:VCALENDAR