BEGIN:VCALENDAR
VERSION:2.0
PRODID:-//jEvents 2.0 for Joomla//EN
CALSCALE:GREGORIAN
METHOD:PUBLISH
BEGIN:VTIMEZONE
TZID:Europe/Vienna
END:VTIMEZONE
BEGIN:VEVENT
UID:9e4cc9aaf000d44b8bba531a683e0cf1
CATEGORIES:DEFAULT
SUMMARY:A Liga Klosterneuburg - Mödling
LOCATION:Vereinshaus 1.KTV, Klosterneuburg, 1.KTV-Weg 1
DESCRIPTION;ENCODING=QUOTED-PRINTABLE:<p>A-Liga  4.Runde auswärts in Klosterneuburg</p>
DTSTAMP:20260422T115906Z
DTSTART;TZID=Europe/Vienna:20191130T150000
SEQUENCE:0
TRANSP:OPAQUE
END:VEVENT
END:VCALENDAR