BEGIN:VCALENDAR
VERSION:2.0
PRODID:-//jEvents 2.0 for Joomla//EN
CALSCALE:GREGORIAN
METHOD:PUBLISH
BEGIN:VTIMEZONE
TZID:Europe/Vienna
END:VTIMEZONE
BEGIN:VEVENT
UID:51f675a8b322162cfd3fde8852c8386c
CATEGORIES:DEFAULT
SUMMARY:1.Klasse Mödling - Amateure
LOCATION:BG Mödling, Untere Bachgasse 8
DESCRIPTION;ENCODING=QUOTED-PRINTABLE:\n\nHeimspiel 3.Runde \n\n\n1.Klasse Mödling - Amateure\n
DTSTAMP:20260422T095550Z
DTSTART;TZID=Europe/Vienna:20191116T150000
SEQUENCE:0
TRANSP:OPAQUE
END:VEVENT
END:VCALENDAR