BEGIN:VCALENDAR
VERSION:2.0
PRODID:-//jEvents 2.0 for Joomla//EN
CALSCALE:GREGORIAN
METHOD:PUBLISH
BEGIN:VTIMEZONE
TZID:Europe/Vienna
END:VTIMEZONE
BEGIN:VEVENT
UID:b3132bfa75b67a6c5c78814b62f40bc0
CATEGORIES:DEFAULT
SUMMARY:A Liga Mödling - Favoriten
LOCATION:BG Mödling, Untere Bachgasse 8
DESCRIPTION;ENCODING=QUOTED-PRINTABLE:<p><span style="font-size: 12.16px;">Heimspiel 3. Runde</span></p><p><span 
 style="font-size: 12.16px;">A Liga Mödling - Favoriten</span></p>
DTSTAMP:20260422T095716Z
DTSTART;TZID=Europe/Vienna:20191116T150000
SEQUENCE:0
TRANSP:OPAQUE
END:VEVENT
END:VCALENDAR