BEGIN:VCALENDAR
VERSION:2.0
PRODID:-//jEvents 2.0 for Joomla//EN
CALSCALE:GREGORIAN
METHOD:PUBLISH
BEGIN:VTIMEZONE
TZID:Europe/Vienna
END:VTIMEZONE
BEGIN:VEVENT
UID:56ee7f46eadd483bb7539337e14a7498
CATEGORIES:DEFAULT
SUMMARY:B Liga Flötzersteig - Mödling
LOCATION:Cafe Kriemhild, 15.Markgraf-Rüdiger-Strasse 14
DESCRIPTION;ENCODING=QUOTED-PRINTABLE:<p><span style="font-size: 12.16px;">B Liga Flötzersteig - Mödling</span></
 p>
DTSTAMP:20260422T095732Z
DTSTART;TZID=Europe/Vienna:20191012T150000
SEQUENCE:0
TRANSP:OPAQUE
END:VEVENT
END:VCALENDAR