BEGIN:VCALENDAR
VERSION:2.0
PRODID:-//jEvents 2.0 for Joomla//EN
CALSCALE:GREGORIAN
METHOD:PUBLISH
BEGIN:VTIMEZONE
TZID:Europe/Vienna
END:VTIMEZONE
BEGIN:VEVENT
UID:5a175e3525f6d389faf34ac0931f37ce
CATEGORIES:DEFAULT
SUMMARY:1.Klasse Süd Mödling - tschaturanga
LOCATION:BG Mödling, Untere Bachgasse 8
DESCRIPTION;ENCODING=QUOTED-PRINTABLE:\n\n1.Klasse Süd Mödling - tschaturanga\n
DTSTAMP:20260422T082128Z
DTSTART;TZID=Europe/Vienna:20191005T150000
SEQUENCE:0
TRANSP:OPAQUE
END:VEVENT
END:VCALENDAR