BEGIN:VCALENDAR
VERSION:2.0
PRODID:-//jEvents 2.0 for Joomla//EN
CALSCALE:GREGORIAN
METHOD:PUBLISH
BEGIN:VTIMEZONE
TZID:Europe/Vienna
END:VTIMEZONE
BEGIN:VEVENT
UID:95a46423f2de9b70b9f7f68ebc0723f0
CATEGORIES:DEFAULT
SUMMARY:Mödlinger Tag des Sports
LOCATION:Mödling Museumspark
DESCRIPTION;ENCODING=QUOTED-PRINTABLE:\n\nUnser Verein ist auch dabei, wir werden 4 Schachbretter aufstellen.\n
DTSTAMP:20260422T082225Z
DTSTART;TZID=Europe/Vienna:20190831T100000
DTEND;TZID=Europe/Vienna:20190831T123000
SEQUENCE:0
TRANSP:OPAQUE
END:VEVENT
END:VCALENDAR