BEGIN:VCALENDAR
VERSION:2.0
PRODID:-//jEvents 2.0 for Joomla//EN
CALSCALE:GREGORIAN
METHOD:PUBLISH
BEGIN:VTIMEZONE
TZID:Europe/Vienna
END:VTIMEZONE
BEGIN:VEVENT
UID:dce1bd184971ac066cc50cfcdaab6d8f
CATEGORIES:DEFAULT
SUMMARY:Mödlinger Ferienspiel für Kinder von 6 - 15 J.
LOCATION:Ferienbüro in der Sportvolksschule Harald Lowatschek – Eingang über Jakob T
 homa-Straße
DESCRIPTION;ENCODING=QUOTED-PRINTABLE:<p>Gratis</p>
DTSTAMP:20260422T082339Z
DTSTART;TZID=Europe/Vienna:20190708T133000
DTEND;TZID=Europe/Vienna:20190708T150000
SEQUENCE:0
TRANSP:OPAQUE
END:VEVENT
END:VCALENDAR