BEGIN:VCALENDAR
VERSION:2.0
PRODID:-//jEvents 2.0 for Joomla//EN
CALSCALE:GREGORIAN
METHOD:PUBLISH
BEGIN:VTIMEZONE
TZID:Europe/Vienna
END:VTIMEZONE
BEGIN:VEVENT
UID:53559572bfe6767a23327a6d1d162c57
CATEGORIES:Meisterschaftstermine
SUMMARY:B-Liga Mödling - Favoriten  (Auswärtsspiel)
LOCATION:Cafe Anningerblick, 1100 Wien, Dr. Eberle Gasse 3
DESCRIPTION;ENCODING=QUOTED-PRINTABLE:<p>8.Runde gegen Favoriten</p><p>Achtung: wir spielen auswärts bei Favorite
 n (weil Faschingsamstag)</p>
DTSTAMP:20260422T082346Z
DTSTART;TZID=Europe/Vienna:20190302T150000
SEQUENCE:0
TRANSP:OPAQUE
END:VEVENT
END:VCALENDAR