BEGIN:VCALENDAR
VERSION:2.0
PRODID:-//jEvents 2.0 for Joomla//EN
CALSCALE:GREGORIAN
METHOD:PUBLISH
BEGIN:VTIMEZONE
TZID:Europe/Vienna
END:VTIMEZONE
BEGIN:VEVENT
UID:8c89fc96f10e96dd88f68c3bbd2282df
CATEGORIES:Meisterschaftstermine
SUMMARY:A-Liga Donau/Aljechin - Mödling
LOCATION:Restaurant zur Reblaus, 1020 Wien, Obere Augarten Strasse 72
DESCRIPTION;ENCODING=QUOTED-PRINTABLE:\n\n7.Runde A-Liga auswärts gegen Donau/Aljechin\n
DTSTAMP:20260422T082236Z
DTSTART;TZID=Europe/Vienna:20190223T150000
SEQUENCE:0
TRANSP:OPAQUE
END:VEVENT
END:VCALENDAR