BEGIN:VCALENDAR
VERSION:2.0
PRODID:-//jEvents 2.0 for Joomla//EN
CALSCALE:GREGORIAN
METHOD:PUBLISH
BEGIN:VTIMEZONE
TZID:Europe/Vienna
END:VTIMEZONE
BEGIN:VEVENT
UID:f25a691c4bb8f4dc2ca08e524668540d
CATEGORIES:Meisterschaftstermine
SUMMARY:B- Liga: Donaustadt - Mödling
LOCATION:TV Kagran  1220 Wien, Anton Sattler Gasse 92-96
DESCRIPTION;ENCODING=QUOTED-PRINTABLE:\n\n7. Runde B-Liga Süd auswärts\n
DTSTAMP:20260422T082334Z
DTSTART;TZID=Europe/Vienna:20190216T150000
SEQUENCE:0
TRANSP:OPAQUE
END:VEVENT
END:VCALENDAR