BEGIN:VCALENDAR
VERSION:2.0
PRODID:-//jEvents 2.0 for Joomla//EN
CALSCALE:GREGORIAN
METHOD:PUBLISH
BEGIN:VTIMEZONE
TZID:Europe/Vienna
END:VTIMEZONE
BEGIN:VEVENT
UID:2f0234e0a81ad78b34f401fe259a87db
CATEGORIES:DEFAULT
SUMMARY:Wiener Kinderliga oberes Playoff
LOCATION:WSV Haus des Schachsports, 1020 Wien, Marathonweg 14
DESCRIPTION;ENCODING=QUOTED-PRINTABLE:<p>Schlußrunde</p>
DTSTAMP:20260422T082346Z
DTSTART;TZID=Europe/Vienna:20190127T140000
SEQUENCE:0
TRANSP:OPAQUE
END:VEVENT
END:VCALENDAR